Workbook

Sheet Bank_Reconciliation
A1: PARTON PARISH COUNCIL
A3: BANK RECONCILIATION
A5: Prepared by | B5: Mrs Jane Coltman (Clerk/RFO)
A7: Date 25/04/22
F11: Item | G11: Total
A12: BALANCE AS PER BANK STATEMENTS 31/03/2022 | F12: £ | G12: £
A14: Bank Current Account | F14: 18437.31
F15: ___________
G16: =SUM(F13:F15) -> 18437.31
A17: LESS UNPRESENTED CHEQUES
A19: Chq. No. | B19: Payee
A20: 101350 | B20: B Warren | F20: -150.48
A21: 101352 | B21: Parton V Hall | F21: -100
A22: 101353 | B22: J Coltman | F22: -806.4
A23: 101354 | B23: HMRC | F23: -201.6
A24: 101355 | B24: J Coltman | F24: -272.92
F25: ___________
G26: =SUM(F19:F25) -> -1531.4
A27: PLUS RECEIPTS NOT BANKED
A29: Details
A30: CR | B30: CCC | C30: Bus shelter grant | F30: 8000
F31: ___________
G32: =SUM(F29:F31) -> 8000
A34: NETT BALANCE AT 31/03/2022 | G34: =SUM(G16:G32) -> 24905.91

Sheet Receipts
A1: PARTON PARISH COUNCIL
A3: REGISTER OF RECEIPTS
A5: FINANCIAL YEAR ENDED 31/03/2022
A7: Prepared by | B7: Mrs Jane Coltman (Clerk/RFO)
A9: Date
A11: Date | B11: Ref | C11: Source | D11: Description | E11: Wayleaves | F11: Garages | G11: Precept | H11: VAT Refund | I11: Other | J11: Total
A13: 44287 | D13: Garage | F13: 25 | J13: =SUM(E13:I13) -> 25
A14: 44289 | D14: Garage | F14: 25 | J14: =SUM(E14:I14) -> 25
A15: 44296 | D15: Garage | F15: 75 | J15: =SUM(E15:I15) -> 75
A16: 44302 | D16: Garage | F16: 25 | J16: =SUM(E16:I16) -> 25
A17: 44307 | D17: Garage | F17: 25 | J17: =SUM(E17:I17) -> 25
A18: 44306 | D18: Garages | F18: 75 | J18: =SUM(E18:I18) -> 75
A19: 44316 | C19: Copeland BC | D19: Precept | G19: 13348 | J19: =SUM(E19:I19) -> 13348
A20: 44416 | D20: Garages | F20: 75 | J20: =SUM(E20:I20) -> 75
A21: 44452 | D21: Garages | F21: 50 | J21: =SUM(E21:I21) -> 50
A22: 44509 | C22: HMRC | H22: 659.36 | J22: =SUM(E22:I22) -> 659.36
A23: 44547 | C23: CWR | D23: POA Refund | I23: 33.36 | J23: =SUM(E23:I23) -> 33.36
A24: 44651 | C24: CCC | D24: Grant | I24: 8000 | J24: =SUM(E24:I24) -> 8000
E27: =SUM(E13:E24) -> 0 | F27: =SUM(F13:F24) -> 375 | G27: =SUM(G13:G24) -> 13348 | H27: =SUM(H13:H24) -> 659.36 | I27: =SUM(I13:I24) -> 8033.36 | J27: =SUM(J13:J24) -> 22415.72

Sheet Payments
A1: PARTON PARISH COUNCIL
A3: REGISTER OF PAYMENTS
A5: FINANCIAL YEAR ENDED 31/03/2022
A7: Prepared by | B7: Mrs Jane Coltman (Clerk/RFO)
A9: Date
A11: Cheque | B11: Date | C11: Minute Ref | D11: Voucher Number | E11: Payee | F11: Description | G11: Staff Costs | H11: Legal & Professional | I11: Office Overheads | J11: Training & Development | K11: Repairs & Renewals | L11: Landscaping | M11: Insurances | N11: Elections | O11: Events | P11: Grants | Q11: S137 | R11: Other | S11: Total | T11: VAT To Reclaim | U11: £100 + Nett (Y/N)
A12: 101328 | B12: 44321 | C12: 034/2020/21 | D12: P01/21 | E12: J Airey | F12: Internal Auditor | H12: 50 | S12: =SUM(G12:R12) -> 50
A13: 101329 | B13: 44321 | C13: 034/2021/22 | D13: P02/21 | E13: CALC | F13: Membership Fees | H13: 210.36 | S13: =SUM(G13:R13) -> 210.36 | U13: Y
A14: 101330 | B14: 44323 | C14: 034/2021/22 | D14: P03/21 | E14: J Coltman | F14: Nett Salary | G14: 225.84 | S14: =SUM(G14:R14) -> 225.84 | U14: Y
A15: 101331 | B15: 44323 | C15: 034/2021/22 | D15: P03/21 | E15: HMRC | F15: PAYE Tax | G15: 56.4 | S15: =SUM(G15:R15) -> 56.4
A16: 101332 | B16: 44321 | C16: 034/2021/22 | D16: P04/21 | E16: J Coltman | F16: Expenses/laptop | G16: 16.3 | I16: =113.71+13.02+4.31+29.95 -> 160.99 | R16: 499 | S16: =SUM(G16:R16) -> 676.29 | T16: 102.84 | U16: Y
A17: 101333 | B17: 44398 | C17: 057/2021/22 | D17: P05/21 | E17: Lowca PC | F17: Half Insurance | M17: 106.22 | S17: =SUM(G17:R17) -> 106.22 | U17: Y
A18: 101334 | B18: 44398 | C18: 057/2021/22 | D18: P06&07/21 | E18: CALC | F18: Training courses | J18: 120 | S18: =SUM(G18:R18) -> 120 | U18: y
A19: 101335 | B19: 44398 | C19: 057/2021/22 | D19: P08/21 | E19: BHIB | F19: Insurance | M19: 307.89 | S19: =SUM(G19:R19) -> 307.89 | U19: y
A20: 101336 | B20: 44398 | C20: 057/2021/22 | D20: P09/21 | E20: J Coltman | F20: Nett Salary | G20: 388.56 | S20: =SUM(G20:R20) -> 388.56 | U20: y
A21: 101337 | B21: 44398 | C21: 057/2021/22 | D21: P09/21 | E21: HMRC | F21: PAYE Tax | G21: 97.2 | S21: =SUM(G21:R21) -> 97.2
A22: 101338 | B22: 44398 | C22: 057/2021/22 | D22: P10/21 | E22: J Coltman | F22: Expenses | G22: 21.35 | I22: 29.54 | R22: 4.99 | S22: =SUM(G22:R22) -> 55.88 | T22: 5.76
A23: 101339 | B23: 44447 | C23: 080/2021/22 | D23: P11/21 | E23: Copeland BC | F23: Election Costs | N23: 80 | S23: =SUM(G23:R23) -> 80
A24: 101340 | B24: 44447 | C24: 080/2021/22 | D24: P12/21 | E24: Copeland BC | F24: Waste Removal | K24: 168 | S24: =SUM(G24:R24) -> 168 | U24: y
A25: 101341 | B25: 44448 | C25: 080/2021/22 | D25: P13/21 | E25: J Coltman | F25: Nett Salary | G25: 422.4 | S25: =SUM(G25:R25) -> 422.4 | U25: y
A26: 101342 | B26: 44448 | C26: 080/2021/22 | D26: P13/21 | E26: HMRC | F26: PAYE Tax | G26: 105.6 | S26: =SUM(G26:R26) -> 105.6 | U26: y
A27: 101343 | B27: 44447 | C27: 080/2021/22 | D27: P14/21 | E27: J Coltman | F27: Expenses | G27: 38.45 | I27: =2.85+31.14 -> 33.99 | K27: =53.64+12.29 -> 65.93 | S27: =SUM(G27:R27) -> 138.37 | T27: 9.42 | U27: y
A28: DD | B28: 44447 | C28: 041/2020/21 | E28: ICO | F28: Reg. Fee | H28: 35 | S28: =SUM(G28:R28) -> 35
A29: DD | B29: 44529 | C29: 116/2021/22 | D29: P15/21 | E29: CWR | F29: Bin emptying | K29: 33.36 | S29: =SUM(G29:R29) -> 33.36 | T29: 5.56
A30: 101344 | B30: 44538 | C30: 116/2021/22 | D30: P16/21 | E30: CBS | F30: Play Bark | K30: 791.82 | S30: =SUM(G30:R30) -> 791.82 | T30: 131.97 | U30: Y
A31: 101345 | B31: 44538 | C31: 116/2021/22 | D31: P17/21 | E31: WF Cascade | F31: Bin liners | K31: 14.09 | S31: =SUM(G31:R31) -> 14.09 | T31: 2.35
A32: 101346 | B32: 44538 | C32: 116/2021/22 | D32: P18/21 | E32: J Coltman | F32: Nett Salary | G32: 614.4 | S32: =SUM(G32:R32) -> 614.4 | U32: y
A33: 101347 | B33: 44538 | C33: 116/2021/22 | D33: P18/21 | E33: HMRC | F33: PAYE Tax | G33: 153.6 | S33: =SUM(G33:R33) -> 153.6 | U33: y
A34: 101348 | B34: 44538 | C34: 116/2021/22 | D34: P19/21 | E34: J Coltman | F34: Expenses | G34: 60.6 | I34: 115.12 | O34: 268 | Q34: 70.59 | S34: =SUM(G34:R34) -> 514.31 | T34: 11.3 | U34: y
A35: 101349 | B35: 44538 | C35: 116/2021/22 | D35: P20/21 | E35: T Tumelty | F35: Grant - OAP Party | Q35: 150 | S35: =SUM(G35:R35) -> 150 | U35: y
A36: 101350 | B36: 44538 | C36: 116/2021/22 | D36: P21/21 | E36: B Warren | F36: Wall Repair | O36: 150.48 | S36: =SUM(G36:R36) -> 150.48 | T36: 25.08 | U36: y
A37: 101351 | B37: 44538 | C37: 116/2021/22 | D37: P22/21 | E37: J & R Bennett | F37: Planting | O37: 261.6 | S37: =SUM(G37:R37) -> 261.6 | T37: 43.6 | U37: y
A38: DD | B38: 44551 | C38: 076/2021/22 | D38: P23/21 | E38: CWR | F38: Bin emptying | K38: 33.36 | S38: =SUM(G38:R38) -> 33.36 | T38: 5.56
A39: DD | B39: 44563 | E39: HSBC | F39: Bank Charges | H39: 9 | S39: =SUM(G39:R39) -> 9
A40: DD | B40: 44592 | C40: 076/2021/22 | D40: P24+25/21 | E40: CWR | F40: Bin emptying | K40: 34.56 | S40: =SUM(G40:R40) -> 34.56 | T40: 5.76
A41: DD | B41: 44594 | E41: HSBC | F41: Bank Charges | H41: 12 | S41: =SUM(G41:R41) -> 12
A42: DD | B42: 44620 | C42: 076/2021/22 | D42: P25A/21 | E42: CWR | F42: Bin emptying | K42: 33.36 | S42: =SUM(G42:R42) -> 33.36 | T42: 5.56
A43: DD | B43: 44625 | E43: HSBC | F43: Bank Charges | H43: 10 | S43: =SUM(G43:R43) -> 10
A44: 101352 | B44: 44629 | C44: 160/2021/22 | D44: P26/21 | E44: Parton Village Hall | F44: Room Hire | I44: 100 | S44: =SUM(G44:R44) -> 100
A45: 101353 | B45: 44629 | C45: 160/2021/22 | D45: P27/21 | E45: J Coltman | F45: Nett Salary | G45: 806.4 | S45: =SUM(G45:R45) -> 806.4 | U45: Y
...

Sheet Annual_Summary
A1: PARTON PARISH COUNCIL
A3: ANNUAL SUMMARY OF ACCOUNTS
A5: FINANCIAL YEAR ENDED 31/03/2022
A7: Prepared by | B7: Mrs Jane Coltman (Clerk/RFO)
A10: Brought Forward from 31/03/2021 | F10: 9974.42
A12: Receipts | B12: Wayleaves | D12: =Receipts!E27 -> 0
B13: Garage Rent | D13: =Receipts!F27 -> 375
B14: Precept | D14: =Receipts!G27 -> 13348
B15: VAT Refund | D15: =Receipts!H27 -> 659.36
B16: Other | D16: =Receipts!I27 -> 8033.36
F17: =SUM(D12:D16) -> 22415.72
A19: Payments | B19: Staff Costs | E19: =Payments!G51 -> 3260.4
B20: Legal & Professional | E20: =Payments!H51 -> 336.36
B21: Office Overheads | E21: =Payments!I51 -> 484.08
B22: Training & Development | E22: =Payments!J51 -> 120
B23: Repairs & Renewals | E23: =Payments!K51 -> 1241.2
B24: Landscaping | E24: =Payments!L51 -> 0
B25: Insurances | E25: =Payments!M51 -> 414.11
B26: Elections | E26: =Payments!N51 -> 80
B27: Events | E27: =Payments!O51 -> 680.08
B28: Grants | E28: =Payments!P51 -> 0
B29: S137 | E29: =Payments!Q51 -> 364.01
B30: Other | E30: =Payments!R51 -> 503.99
F31: =0-SUM(E19:E30) -> -7484.23
A33: Balance of reserves. | F33: =SUM(F10:F32) -> 24905.91

Sheet Previous_Year_Variance
A1: PARTON PARISH COUNCIL
C4: 2020/2021 | E4: 2021/2022 | G4: Variance
A5: VAT Claim | C5: 737.4 | E5: 659.36 | G5: =E5-C5 -> -78.04
A8: Telephone, Postage & Stationery | C8: =56.65+27.8+37.06+12.36+29.2+3.23+102.49+56.16+2.79+8.97 -> 336.71 | E8: =120+'[1]Budget Summary'!$D$13+'[1]Budget Summary'!$D$14 -> 258.97 | G8: =E8-C8 -> -77.74
A9: Insurance | C9: =307.89+103.13 -> 411.02 | E9: =+'[1]Budget Summary'!$D$34 -> 414.11 | G9: =E9-C9 -> 3.09
A10: Audit Fees | C10: =50+75 -> 125 | E10: =+'[1]Budget Summary'!$D$9 -> 50 | G10: =E10-C10 -> -75 | H10: No audit at 6 months
A11: Clerk’s Salary | C11: =458.64+317.52+647.13+446.55-215 -> 1654.84 | E11: =+'[1]Budget Summary'!$D$6 -> 3072 | G11: =E11-C11 -> 1417.16 | H11: Clerk's hours were increased to reflect actual plus salary scale and rate review
A12: Clerk’s Travel | C12: =1.35+2.7+44.55+3.15 -> 51.75 | E12: =+'[1]Staff Costs'!$F$7+'[1]Staff Costs'!$F$11+'[1]Staff Costs'!$F$15+'[1]Staff Costs'!$F$19+'[1]Staff Costs'!$F$23 -> 68.4 | G12: =E12-C12 -> 16.65
A13: S137
A14: Easter egg donation | B14: 150 | D14: 0
A15: Wreath | B15: 17 | D15: 17
A16: Paper Cutter for School | B16: 0 | D16: 53.59
A17: OAP Xmas party grant | B17: 0 | D17: 150
A18: Children's Xmas gifts | B18: 0 | D18: 143.42
C19: =SUM(B14:B18) -> 167 | E19: =SUM(D14:D18) -> 364.01 | G19: =E19-C19 -> 197.01 | H19: More events due to end of lockdown restrictions
A20: Grants
A21: Parton Reunited | B21: 180 | D21: 0
C22: =SUM(B21:B21) -> 180 | E22: =SUM(D21) -> 0 | G22: =E22-C22 -> -180 | H22: Nothing requested
A23: Landscape
A24: Play Area | B24: =175+53.86 -> 228.86 | D24: =+'[1]Budget Summary'!$D$24 -> 791.82 | H24: New bark
A25: Bin Collection | B25: =309.4+24.31 -> 333.71 | D25: =+'[1]Budget Summary'!$D$25 -> 449.38 | H25: Change of supplier due to price increase
C26: =SUM(B24:B25) -> 562.57 | E26: =SUM(D24:D25) -> 1241.2 | G26: =E26-C26 -> 678.63
A27: Subscriptions
A28: Calc | B28: 201.43 | D28: =+'[1]Legal & Professional'!$F$5 -> 210.36
C29: =SUM(B28) -> 201.43 | E29: =SUM(D28) -> 210.36 | G29: =E29-C29 -> 8.93
A30: Miscellaneous
A31: Bus Shelter Repair | B31: =84.17 -> 84.17 | D31: 0
A32: Village Hall Rent | B32: =11.99+23.98+35.97 -> 71.94 | D32: 100
A33: Website Fees | B33: 84 | D33: 97.14
A34: Job advertisement | B34: 386 | D34: 0
A35: Training | B35: =20+80+40 -> 140 | D35: 120
A36: Computer Repair | B36: 83.33 | D36: 0
A37: Solicitor Fees | B37: 2750 | D37: 0
A38: Claim Settlement | B38: 5200 | D38: 0
A39: Filing cabinet | B39: 73.77 | D39: 0
A40: ICO Registration | B40: 40 | D40: 35
A41: Bank Charges | B41: 0 | D41: 41
A42: Zoom subs | B42: 0 | D42: 118.02
A43: Software | B43: 0 | D43: 29.95
A44: Elections | B44: 0 | D44: 80
...

Sheet Asset_Register
A1: PARTON PARISH COUNCIL
A2: ASSET REGISTER
A4: 31st MARCH 2022
A6: ITEM | B6: PURCHASE DATE | C6: COMMENTS | D6: OPENING VALUE 2020 | E6: ADDITIONS | F6: DISPOSALS | G6: CURRENT VALUE 2021 | H6: COMMENTS
A8: Bus Shelter | B8: Oct 2010 | C8: Criffel Road, Parton | D8: 4107 | G8: =D8+E8-F8 -> 4107
A9: Play Equipment Units | B9: Aug 2011 | C9: Main Street, Parton | D9: 26965 | G9: =D9+E9-F9 -> 26965
A10: Waste Bins | B10: Jan 2017 | C10: Play area, Main Street, Parton | D10: 460 | G10: =D10+E10-F10 -> 460
A11: Land | C11: Used as a car Park. Main Street, Parton | D11: 1 | G11: =D11+E11-F11 -> 1 | H11: Nominal value entered
A12: Land | C12: Strip of land between the dwellings and the permanent way. Main Street, Parton | D12: 1 | G12: =D12+E12-F12 -> 1 | H12: Nominal value entered
A13: Land | C13: The Square, Parton | D13: 1 | G13: =D13+E13-F13 -> 1 | H13: Nominal value entered
A14: War Memorial | B14: Erected 1921 | C14: The Square, Parton | D14: 1 | G14: =D14+E14-F14 -> 1 | H14: Nominal value entered
A15: Land | C15: The Foreshore, Parton | D15: 1 | G15: =D15+E15-F15 -> 1 | H15: Nominal value entered
A16: 4 Benches, Waste bins, 2 Picnic Tables | C16: The memorial Garden, The Foreshore, Parton | D16: 2500 | G16: =D16+E16-F16 -> 2500
A17: Public Noticeboard | B17: Mar 2010 | C17: Beside The Village Hall | D17: 816 | G17: =D17+E17-F17 -> 816
A18: Public Noticeboard | B18: Feb 2020 | C18: Criffel Road bus shelter, Parton | D18: 165 | G18: =D18+E18-F18 -> 165
A19: Acer Laptop+Mouse | B19: Apr 2021 | C19: With Clerk | D19: 0 | E19: 504 | G19: =D19+E19-F19 -> 504
D20: =SUM(D8:D19) -> 35018 | E20: =SUM(E8:E19) -> 504 | F20: =SUM(F8:F19) -> 0 | G20: =SUM(G8:G19) -> 35522
F21: =SUM(D20:E20)-F20 -> 35522
